BEGIN:VCALENDAR
VERSION:2.0
PRODID:-// - ECPv6.6.4.2//NONSGML v1.0//EN
CALSCALE:GREGORIAN
METHOD:PUBLISH
X-ORIGINAL-URL:http://www.eatmonza.com
X-WR-CALDESC:Events for 
REFRESH-INTERVAL;VALUE=DURATION:PT1H
X-Robots-Tag:noindex
X-PUBLISHED-TTL:PT1H
BEGIN:VTIMEZONE
TZID:UTC
BEGIN:STANDARD
TZOFFSETFROM:+0000
TZOFFSETTO:+0000
TZNAME:UTC
DTSTART:20250101T000000
END:STANDARD
END:VTIMEZONE
BEGIN:VEVENT
DTSTART;TZID=UTC:20250829T190000
DTEND;TZID=UTC:20250829T230000
DTSTAMP:20260422T113101
CREATED:20250816T193032Z
LAST-MODIFIED:20250816T193032Z
UID:1196-1756494000-1756508400@www.eatmonza.com
SUMMARY:Josh Allen: Live at The Garden by Monza
DESCRIPTION:
URL:http://www.eatmonza.com/event/josh-allen-live-at-the-garden-by-monza-3/
LOCATION:The Garden at Monza\, 9405 Battle St\, Manassas\, VA\, 20110\, United States
END:VEVENT
END:VCALENDAR